BEGIN:VCALENDAR
VERSION:2.0
BEGIN:VEVENT
UID:50A679FF-D537-432B-B855-7EBC997092B8
DTSTART:20220214T000000Z
DTEND:20260530T000000Z
SUMMARY:Park Avenue Smiles offers a discount
DESCRIPTION:Park Avenue Smiles of Yonkers\, Westchester County\, is a cosme
 tic and family dental clinic\, able to treat most dental health disorders.
  Here you`ll find highly skilled and experienced dental staff to handle al
 l your oral health needs\, using only the latest equipment and techniques.
  We even have Saturday dentists who provide emergency services\, restorati
 ve care\, and cosmetic dentistry. Currently offering a limited time event\
 , 5-10% discount for all new patients. \n   \nPark Avenue Smiles \n169 Par
 k Ave\, \nYonkers\, NY 10703 \n(914) 965-3864 \n https://www.yonkersdental
 spa.com/ \n  \nGoogle maps:  https://g.page/yonkers-dentists-invisalign \n
   https://plus.codes/87G8W4W5+9P Yonkers \n  \nNearby Locations: \nWhite P
 lains | Eastchester | Greenburgh | Bronxville | Rochelle | Scarsdale \n106
 01 | 10709 | 10607 | 10708 | 10583 \n   \nWorking Hours: \nMonday: 9:00 am
  - 5:00 pm \nTuesday: 9:00 am - 8:00 pm \nWednesday: 9:00 am - 8:00 pm \nT
 hursday: 9:00 am - 5:00 pm \nFriday: 9:00 am - 5:00 pm \nSaturday: 8:00 am
  - 3:00 pm \nSunday: CLOSED \n   \nPayment: cash\, check\, credit cards.\n
 Park Avenue Smiles\n169 Park Ave\,\nYonkers\, NY 10703 United States\n
LOCATION:169 Park Ave\,\, Yonkers\, NY 10703
URL:http://newyorkcity.bubblelife.com/community/park_avenue_smiles/library/
 351641493/key/3511168031/Park_Avenue_Smiles_offers_a_discount
CREATED:20220215T100415Z
LAST-MODIFIED:20220215T100415Z
DTSTAMP:20260424T042126Z
CLASS:PUBLIC
STATUS:CONFIRMED
TRANSP:TRANSPARENT
SEQUENCE:1
END:VEVENT
END:VCALENDAR
